BEGIN:VCALENDAR
VERSION:2.0
PRODID:-//KBR - ECPv6.15.18//NONSGML v1.0//EN
CALSCALE:GREGORIAN
METHOD:PUBLISH
X-WR-CALNAME:KBR
X-ORIGINAL-URL:https://www.kbr.be/fr/
X-WR-CALDESC:Évènements pour KBR
REFRESH-INTERVAL;VALUE=DURATION:PT1H
X-Robots-Tag:noindex
X-PUBLISHED-TTL:PT1H
BEGIN:VTIMEZONE
TZID:Europe/Brussels
BEGIN:DAYLIGHT
TZOFFSETFROM:+0100
TZOFFSETTO:+0200
TZNAME:CEST
DTSTART:20240331T010000
END:DAYLIGHT
BEGIN:STANDARD
TZOFFSETFROM:+0200
TZOFFSETTO:+0100
TZNAME:CET
DTSTART:20241027T010000
END:STANDARD
BEGIN:DAYLIGHT
TZOFFSETFROM:+0100
TZOFFSETTO:+0200
TZNAME:CEST
DTSTART:20250330T010000
END:DAYLIGHT
BEGIN:STANDARD
TZOFFSETFROM:+0200
TZOFFSETTO:+0100
TZNAME:CET
DTSTART:20251026T010000
END:STANDARD
BEGIN:DAYLIGHT
TZOFFSETFROM:+0100
TZOFFSETTO:+0200
TZNAME:CEST
DTSTART:20260329T010000
END:DAYLIGHT
BEGIN:STANDARD
TZOFFSETFROM:+0200
TZOFFSETTO:+0100
TZNAME:CET
DTSTART:20261025T010000
END:STANDARD
END:VTIMEZONE
BEGIN:VEVENT
DTSTART;TZID=Europe/Brussels:20251008T203000
DTEND;TZID=Europe/Brussels:20251008T213000
DTSTAMP:20260420T215455
CREATED:20250924T151001Z
LAST-MODIFIED:20251002T131408Z
UID:10001827-1759955400-1759959000@www.kbr.be
SUMMARY:ARTONOV - Loïe Fuller : Research [COMPLET]
DESCRIPTION:Avec Loïe Fuller: Research\, la chorégraphe Ola Maciejewska nous offre un nouveau regard sur les danses serpentines inventées par Loïe Fuller. Séduite par la construction sculpturale – une entité composée de textile\, de bambou\, de sons\, d’air et de la force centrifuge du corps pris dans un mouvement circulaire\, Maciejewska déconstruit la référence historique à travers des formes hybrides produites par cette construction. Le visible et l’invisible\, le matériel et l’éphémère\, le réel et l’imaginaire sont habilement entremêlés et se jouent de ce qui est donné à voir. \nMaciejewska a « négocié avec un fantôme » – l’expression est d’elle – et joué avec l’histoire de la danse pour créer un poème visuel\, un conte fantastique : un fascinant cabinet de curiosités qui est à la fois intemporel et contemporain. \nLa représentation sera précédée d’un petit moment musical (15 min) \n\n		\n			Achetez votre ticket		\n\n		 \n		\n			Découvrez le KBR museum		\n\n		 \nLe Festival ARTONOV s’inspire du mouvement international de l’Art Nouveau\, tant pour sa philosophie que pour sa mise en pratique\, mais aussi de l’art sensoriel et pluridisciplinaire japonais. Son objectif est de générer une convergence entre les arts vivants\, tels que la musique\, la danse\, le théâtre\, la mode et les arts visuels\, en encourageant l’interdisciplinarité et la création dans des lieux Art Nouveau\, Art Déco et d’architecture remarquable de Bruxelles.  \nLe Festival présente une dizaine de spectacles artistiques originaux et innovants où jeunes et professionnels sont mis en avant. Il souhaite offrir aux artistes\, et prioritairement aux artistes émergents\, la possibilité de développer leurs projets artistiques dans un esprit de collaboration entre générations\, nationalités et disciplines artistiques.
URL:https://www.kbr.be/fr/agenda/loie-fuller-research/
LOCATION:Palais de Charles de Lorraine
CATEGORIES:Concert
ATTACH;FMTTYPE=image/png:https://www.kbr.be/wp-content/uploads/2025/08/png-1.png
END:VEVENT
END:VCALENDAR