BEGIN:VCALENDAR
VERSION:2.0
PRODID:-//KBR - ECPv6.15.18//NONSGML v1.0//EN
CALSCALE:GREGORIAN
METHOD:PUBLISH
X-WR-CALNAME:KBR
X-ORIGINAL-URL:https://www.kbr.be/nl/
X-WR-CALDESC:Evenementen voor KBR
REFRESH-INTERVAL;VALUE=DURATION:PT1H
X-Robots-Tag:noindex
X-PUBLISHED-TTL:PT1H
BEGIN:VTIMEZONE
TZID:Europe/Brussels
BEGIN:DAYLIGHT
TZOFFSETFROM:+0100
TZOFFSETTO:+0200
TZNAME:CEST
DTSTART:20240331T010000
END:DAYLIGHT
BEGIN:STANDARD
TZOFFSETFROM:+0200
TZOFFSETTO:+0100
TZNAME:CET
DTSTART:20241027T010000
END:STANDARD
BEGIN:DAYLIGHT
TZOFFSETFROM:+0100
TZOFFSETTO:+0200
TZNAME:CEST
DTSTART:20250330T010000
END:DAYLIGHT
BEGIN:STANDARD
TZOFFSETFROM:+0200
TZOFFSETTO:+0100
TZNAME:CET
DTSTART:20251026T010000
END:STANDARD
BEGIN:DAYLIGHT
TZOFFSETFROM:+0100
TZOFFSETTO:+0200
TZNAME:CEST
DTSTART:20260329T010000
END:DAYLIGHT
BEGIN:STANDARD
TZOFFSETFROM:+0200
TZOFFSETTO:+0100
TZNAME:CET
DTSTART:20261025T010000
END:STANDARD
BEGIN:DAYLIGHT
TZOFFSETFROM:+0100
TZOFFSETTO:+0200
TZNAME:CEST
DTSTART:20270328T010000
END:DAYLIGHT
BEGIN:STANDARD
TZOFFSETFROM:+0200
TZOFFSETTO:+0100
TZNAME:CET
DTSTART:20271031T010000
END:STANDARD
END:VTIMEZONE
BEGIN:VEVENT
DTSTART;TZID=Europe/Brussels:20251022T090000
DTEND;TZID=Europe/Brussels:20260223T170000
DTSTAMP:20260421T022638
CREATED:20251009T133115Z
LAST-MODIFIED:20260123T074039Z
UID:10001904-1761123600-1771866000@www.kbr.be
SUMMARY:Pop-Up Expo: Hommage aan Leen Van Hulst
DESCRIPTION:Onze collega Leen Van Hulst overleed op 23 januari 2025\, op 42-jarige leeftijd\, na een moedige strijd tegen ziekte. Deze tentoonstelling is een hommage aan haar en is opgebouwd rond een selectie werken van Leen uit de collectie van KBR.   \nLeen Van Hulst was illustrator en prentmaker. Ze werd geboren in Jette en studeerde schilderkunst en illustratieve vormgeving in Antwerpen. Vanuit Borgerhout werkte ze jarenlang als freelance illustrator voor uiteenlopende opdrachtgevers in binnen- en buitenland. Bij KBR was ze verantwoordelijk voor het atelier van de Chalcografie\, waar ze zich toelegde op het drukken en maken van prenten.  \nDeze tentoonstelling toont haar veelzijdige oeuvre en het blijvende spoor dat ze heeft nagelaten als kunstenaar en collega. \nPraktische informatie\n\nData: van 22 oktober 2025 tot 23 februari 2026\nOpeningstijden: maandag tot zaterdag van 9 tot 17 uur\nLocatie: Algemene Leeszaal KBR\nToegang: Deze tentoonstelling is ook toegankelijk zonder lezerskaart. Gelieve u aan te melden aan het onthaal van de leeszaal om een toegangsbadge te vragen en de stilte in de leeszaal te respecteren.\n\n 
URL:https://www.kbr.be/nl/agenda/pop-up-expo-hommage-aan-leen-van-hulst/
LOCATION:Algemene leeszaal\, Kunstberg 28\, Brussel\, 1000\, Belgium
CATEGORIES:Expo
ATTACH;FMTTYPE=image/jpeg:https://www.kbr.be/wp-content/uploads/2025/10/portret-leen-banner.jpg
ORGANIZER;CN="KBR":MAILTO:music@kbr.be
END:VEVENT
BEGIN:VEVENT
DTSTART;TZID=Europe/Brussels:20250801T090000
DTEND;TZID=Europe/Brussels:20251010T170000
DTSTAMP:20260421T022638
CREATED:20250729T125353Z
LAST-MODIFIED:20250929T072824Z
UID:10001814-1754038800-1760115600@www.kbr.be
SUMMARY:Pop-Up Expo: vrouwelijke boek-en leescultuur doorheen de eeuwen
DESCRIPTION:Maak kennis met de vrouwelijke boek- en leescultuur in ons land van de middeleeuwen tot nu\nVan gepassioneerde lezeressen tot uitgeefsters en schrijfsters: vrouwen hebben de boek-en leescultuur door de eeuwen heen mee gevormd… maar vaak in de schaduw. \nHoewel vrouwen doorheen de geschiedenis een uiterst belangrijke rol hebben gespeeld in de creatie en verspreiding van de geschreven cultuur\, als lezer\, auteur\, uitgever en als bibliofiel\, is ons beeld van boekcultuur vaak mannelijk. \nVaak was de relatie tussen vrouwen en boeken een punt van discussie. Toch weerhield dit vrouwen er niet van om boek en/of pen in hand te nemen. \nToch staat het onderzoek naar vrouwelijke boek- en leescultuur en vrouwelijk boekenbezit nog in de kinderschoene\, zeker in onze contreien. \nDeze pop-up expo is een eerste kennismaking met de vrouwelijke boek- en leescultuur in ons land\, van de middeleeuwen tot vandaag. \n  \nPraktische informatie\n\nData: van 1 augustus 2025 tot 10 oktober 2025\nOpeningstijden: maandag tot zaterdag van 9 tot 17 uur\nLocatie: Algemene Leeszaal KBR\nToegang: Deze pop-up tentoonstelling is ook toegankelijk zonder lezerskaart.
URL:https://www.kbr.be/nl/agenda/expo-vrouwelijke-leescultuur/
LOCATION:Algemene leeszaal\, Kunstberg 28\, Brussel\, 1000\, Belgium
CATEGORIES:Expo
ATTACH;FMTTYPE=image/jpeg:https://www.kbr.be/wp-content/uploads/2025/07/be-kbr00-10751442-web.jpg
ORGANIZER;CN="KBR":MAILTO:music@kbr.be
END:VEVENT
END:VCALENDAR