BEGIN:VCALENDAR
VERSION:2.0
PRODID:-//KBR - ECPv6.15.18//NONSGML v1.0//EN
CALSCALE:GREGORIAN
METHOD:PUBLISH
X-WR-CALNAME:KBR
X-ORIGINAL-URL:https://www.kbr.be/nl/
X-WR-CALDESC:Evenementen voor KBR
REFRESH-INTERVAL;VALUE=DURATION:PT1H
X-Robots-Tag:noindex
X-PUBLISHED-TTL:PT1H
BEGIN:VTIMEZONE
TZID:Europe/Brussels
BEGIN:DAYLIGHT
TZOFFSETFROM:+0100
TZOFFSETTO:+0200
TZNAME:CEST
DTSTART:20250330T010000
END:DAYLIGHT
BEGIN:STANDARD
TZOFFSETFROM:+0200
TZOFFSETTO:+0100
TZNAME:CET
DTSTART:20251026T010000
END:STANDARD
BEGIN:DAYLIGHT
TZOFFSETFROM:+0100
TZOFFSETTO:+0200
TZNAME:CEST
DTSTART:20260329T010000
END:DAYLIGHT
BEGIN:STANDARD
TZOFFSETFROM:+0200
TZOFFSETTO:+0100
TZNAME:CET
DTSTART:20261025T010000
END:STANDARD
BEGIN:DAYLIGHT
TZOFFSETFROM:+0100
TZOFFSETTO:+0200
TZNAME:CEST
DTSTART:20270328T010000
END:DAYLIGHT
BEGIN:STANDARD
TZOFFSETFROM:+0200
TZOFFSETTO:+0100
TZNAME:CET
DTSTART:20271031T010000
END:STANDARD
END:VTIMEZONE
BEGIN:VEVENT
DTSTART;TZID=Europe/Brussels:20260321T080000
DTEND;TZID=Europe/Brussels:20261018T170000
DTSTAMP:20260421T010452
CREATED:20260313T152018Z
LAST-MODIFIED:20260409T130050Z
UID:10002040-1774080000-1792342800@www.kbr.be
SUMMARY:Stap in de voetsporen van Bart Van Loo en de Bourgondiërs in het KBR museum
DESCRIPTION:Bart Van Loo nodigt u uit om door zijn ogen te kijken naar een van de meest fascinerende periodes uit onze geschiedenis\, een tijdperk waar kunst en macht elkaar naar een hoger niveau tillen. Samen met KBR stelde hij een bijzonder museumparcours samen. U ontdekt er originele aquarellen van Jean Léon-Huens uit ‘s Lands Glorie naast uitzonderlijke handschriften\, drukken en prenten uit de KBR collecties. \nDeze stukken illustreren Barts fascinatie voor geschiedenis én ze maken de wereld van het Bourgondische hof tastbaar. Bij dit parcours schreef hij teksten waarin hij de essentie van onze Bourgondische ontstaansgeschiedenis weet te vatten. \n  \nDoor de ogen van een rasverteller\nDe aquarellen van Jean-Léon Huens — die hij als tiener letterlijk stuk keek — deden zijn liefde voor geschiedenis ontvlammen. Prent nr. 182\, Nancy\, plantte een zaadje dat jaren later zou uitgroeien tot De Bourgondiërs. Aartsvaders van de Lage Landen. Het was Barts droom om Huens’ originele prenten te zien naast eeuwenoude schatten van KBR\, naast handschriften die ooit werden aangeraakt door Filips de Goede en de zijnen. Ervaar hoe kleine emotie en grote geschiedenis elkaar vinden en hoe verbeelding en verleden in één oogopslag samenvallen. \n\n		\n			Koop uw ticket		\n\n		 \n		\n			Ontdek het KBR museum		\n\n		 \n  \nGa verder op ontdekkingstocht in Brussel\nUw reis door de Bourgondische wereld hoeft niet te eindigen in het KBR museum. Met de podwalk Stoute schoenen neemt Bart Van Loo u mee door Brussel. Via de VRT-app PodWalks wandelt u langs plekken waar het Bourgondische verleden nog altijd voelbaar is — van het Paleizenplein\, via Hotel Ravenstein en de Nassaukapel\, tot de Grote Markt en de Sint-Michiels en Sint-Goedelekathedraal. \n\n		\n			Meer weten over de podwalk		\n\n		\n  \n  \nPraktische info\n\nWanneer ? 21 maart tot 18 oktober 2026\nWaar ? KBR museum\nPrijs\n\n0€ : -18 jaar\, MuseumPASSmusées\, lerarenkaart\, personen met een handicap\, werkzoekenden\, ICOM-kaart\, Belspo-kaart\, Brussels Card\n8€ : 65+\, studenten\n11€ : Standaardtarief
URL:https://www.kbr.be/nl/agenda/stap-in-de-voetsporen-van-bart-van-loo-in-het-kbr-museum/
LOCATION:KBR museum\, Kuntsberg\, Brussels\, Brussels\, 1000\, Belgium
CATEGORIES:Expo
ATTACH;FMTTYPE=image/png:https://www.kbr.be/wp-content/uploads/2026/03/kbr-visuel-1920x1080-1.png
END:VEVENT
END:VCALENDAR